BEGIN:VCALENDAR
VERSION:2.0
PRODID:-//https://sviluppoweb.ch/gardi2025///NONSGML kigkonsult.se iCalcreator 2.10.15//
METHOD:PUBLISH
BEGIN:VEVENT
UID:20260421T123710CEST-1720rVR0ux@https://sviluppoweb.ch/gardi2025/
DTSTAMP:20260421T103710Z
DESCRIPTION: https://sviluppoweb.ch/gardi2025/en/shows/event/783-gardizero
DTSTART:20261101T190000Z
DTEND:20261101T201000Z
LOCATION:SALZGITTER - Kniestedter Kirche (Braunschweiger Str. 133\, 38259 S
 alzgitter\, Germania)
SUMMARY:gardiZERO 
URL:https://sviluppoweb.ch/gardi2025/en/shows/event/783-gardizero
END:VEVENT
END:VCALENDAR
