BEGIN:VCALENDAR
VERSION:2.0
PRODID:-//https://sviluppoweb.ch/gardi2025///NONSGML kigkonsult.se iCalcreator 2.10.15//
METHOD:PUBLISH
BEGIN:VEVENT
UID:20260421T121934CEST-4082VJKIss@https://sviluppoweb.ch/gardi2025/
DTSTAMP:20260421T101934Z
DESCRIPTION: https://sviluppoweb.ch/gardi2025/en/shows/event/782-gardizero
DTSTART:20260422T180000Z
DTEND:20260422T191000Z
LOCATION:HERRENBERG - Mauerwerk (Hindenburgstraße 22\, 71083 Herrenberg\, G
 ermania)
SUMMARY:gardiZERO 
URL:https://sviluppoweb.ch/gardi2025/en/shows/event/782-gardizero
END:VEVENT
END:VCALENDAR
