BEGIN:VCALENDAR
VERSION:2.0
PRODID:-//https://sviluppoweb.ch/gardi2025///NONSGML kigkonsult.se iCalcreator 2.10.15//
METHOD:PUBLISH
BEGIN:VEVENT
UID:20260419T163606CEST-91644BeCSv@https://sviluppoweb.ch/gardi2025/
DTSTAMP:20260419T143606Z
DESCRIPTION: https://sviluppoweb.ch/gardi2025/en/shows/event/771-gardizero
DTSTART:20260502T180000Z
DTEND:20260502T191000Z
LOCATION:LUZERN - Kleinteater  (Bundespl. 14\, 6003 Luzern\, Svizzera)
SUMMARY:gardiZERO 
URL:https://sviluppoweb.ch/gardi2025/en/shows/event/771-gardizero
END:VEVENT
END:VCALENDAR
