BEGIN:VCALENDAR
VERSION:2.0
PRODID:-//https://sviluppoweb.ch/gardi2025///NONSGML kigkonsult.se iCalcreator 2.10.15//
METHOD:PUBLISH
BEGIN:VEVENT
UID:20260421T165732CEST-86461AjZjU@https://sviluppoweb.ch/gardi2025/
DTSTAMP:20260421T145732Z
DESCRIPTION: https://sviluppoweb.ch/gardi2025/en/shows/event/767-gardizero
DTSTART:20260423T180000Z
DTEND:20260423T191000Z
LOCATION:SINGEN - GEMS Kulturzentrum (Mühlenstraße 13\, 78224 Singen (Hohen
 twiel)\, Germania)
SUMMARY:gardiZERO 
URL:https://sviluppoweb.ch/gardi2025/en/shows/event/767-gardizero
END:VEVENT
END:VCALENDAR
