BEGIN:VCALENDAR
VERSION:2.0
PRODID:-//https://sviluppoweb.ch/gardi2025///NONSGML kigkonsult.se iCalcreator 2.10.15//
METHOD:PUBLISH
BEGIN:VEVENT
UID:20260421T122402CEST-6114CCkrXI@https://sviluppoweb.ch/gardi2025/
DTSTAMP:20260421T102402Z
DESCRIPTION: https://sviluppoweb.ch/gardi2025/en/shows/event/747-gardizero
DTSTART:20260328T190000Z
DTEND:20260328T201000Z
LOCATION:ALTSTÄTTEN - Diogenes Theater (Kugelgasse 3\, 9450 Altstätten\, Sv
 izzera)
SUMMARY:gardiZERO 
URL:https://sviluppoweb.ch/gardi2025/en/shows/event/747-gardizero
END:VEVENT
END:VCALENDAR
