BEGIN:VCALENDAR
VERSION:2.0
PRODID:-//https://sviluppoweb.ch/gardi2025///NONSGML kigkonsult.se iCalcreator 2.10.15//
METHOD:PUBLISH
BEGIN:VEVENT
UID:20260421T122728CEST-1450O83ZPx@https://sviluppoweb.ch/gardi2025/
DTSTAMP:20260421T102728Z
DESCRIPTION: https://sviluppoweb.ch/gardi2025/en/shows/event/742-gardizero
DTSTART:20260318T190000Z
DTEND:20260318T201000Z
LOCATION:BASEL FAUTEUIL (Spalenberg 12 4001  Basel)
SUMMARY:gardiZERO 
URL:https://sviluppoweb.ch/gardi2025/en/shows/event/742-gardizero
END:VEVENT
END:VCALENDAR
