BEGIN:VCALENDAR
VERSION:2.0
PRODID:-//https://sviluppoweb.ch/gardi2025///NONSGML kigkonsult.se iCalcreator 2.10.15//
METHOD:PUBLISH
BEGIN:VEVENT
UID:20260421T123959CEST-5182nvgl7g@https://sviluppoweb.ch/gardi2025/
DTSTAMP:20260421T103959Z
DESCRIPTION: https://sviluppoweb.ch/gardi2025/en/component/rseventspro/even
 t/743-gardizero?Itemid=131
DTSTART:20260320T190000Z
DTEND:20260320T201000Z
LOCATION:BASEL FAUTEUIL (Spalenberg 12 4001  Basel)
SUMMARY:gardiZERO 
URL:https://sviluppoweb.ch/gardi2025/en/component/rseventspro/event/743-gar
 dizero?Itemid=131
END:VEVENT
END:VCALENDAR
